BEGIN:VCALENDAR
VERSION:2.0
PRODID:-//ReSt@rts - ECPv6.2.3.2//NONSGML v1.0//EN
CALSCALE:GREGORIAN
METHOD:PUBLISH
X-WR-CALNAME:ReSt@rts
X-ORIGINAL-URL:https://restartproject.net
X-WR-CALDESC:Events for ReSt@rts
REFRESH-INTERVAL;VALUE=DURATION:PT1H
X-Robots-Tag:noindex
X-PUBLISHED-TTL:PT1H
BEGIN:VTIMEZONE
TZID:UTC
BEGIN:STANDARD
TZOFFSETFROM:+0000
TZOFFSETTO:+0000
TZNAME:UTC
DTSTART:20230101T000000
END:STANDARD
END:VTIMEZONE
BEGIN:VEVENT
DTSTART;TZID=UTC:20230928T150000
DTEND;TZID=UTC:20230928T163000
DTSTAMP:20260422T224402
CREATED:20230922T083444Z
LAST-MODIFIED:20231106T101125Z
UID:5005-1695913200-1695918600@restartproject.net
SUMMARY:Microfinanza a portata nazionale - l'importanza del rapporto coi territori
DESCRIPTION:Follow via Facebook @ReStartsProject page https://www.facebook.com/restartsproject \n\n\n\n \n\n\n\nPost event materials: Video Streaming Recording
URL:https://restartproject.net/event/microfinanza-a-portata-nazionale-limportanza-del-rapporto-coi-territori/
LOCATION:Follow via Facebook\, ReSt@rts Project Facebook Page
CATEGORIES:Meetings,Seminars
END:VEVENT
END:VCALENDAR