BEGIN:VCALENDAR
VERSION:2.0
PRODID:-//ReSt@rts - ECPv6.2.3.2//NONSGML v1.0//EN
CALSCALE:GREGORIAN
METHOD:PUBLISH
X-WR-CALNAME:ReSt@rts
X-ORIGINAL-URL:https://restartproject.net
X-WR-CALDESC:Events for ReSt@rts
REFRESH-INTERVAL;VALUE=DURATION:PT1H
X-Robots-Tag:noindex
X-PUBLISHED-TTL:PT1H
BEGIN:VTIMEZONE
TZID:UTC
BEGIN:STANDARD
TZOFFSETFROM:+0000
TZOFFSETTO:+0000
TZNAME:UTC
DTSTART:20230101T000000
END:STANDARD
END:VTIMEZONE
BEGIN:VEVENT
DTSTART;TZID=UTC:20230705T123000
DTEND;TZID=UTC:20230705T140000
DTSTAMP:20260423T024816
CREATED:20230628T111722Z
LAST-MODIFIED:20230628T112749Z
UID:4324-1688560200-1688565600@restartproject.net
SUMMARY:REST@RTS Market Place Platform & Strategic Hiring
DESCRIPTION:Entrepreneurs\, we have an important announcement for you! \n\n\n\n\n\n\n\nThe Chamber of Achaia partner of Rest@rts is thrilled to invite you to a groundbreaking in-person open event focused on strategic hiring and microfinancing. Join us as aspiring entrepreneurs gain insight into empowering growth through talent and funding. This event consists of synergy with the strategic EU project “Creative@hubs – Holistic networking of creative industries via hubs” funded under the Interreg Greece-Italy V-A framework.
URL:https://restartproject.net/event/restrts-market-place-platform-strategic-hiring/
LOCATION:Messolonghi by Locals\, Chryssogelos building in Messolonghi Frederikou Katasou & Michael Makri str.\, Sacred City of Messolonghi\, 3020\, Greece
CATEGORIES:Meetings
END:VEVENT
END:VCALENDAR