BEGIN:VCALENDAR
VERSION:2.0
PRODID:-//ReSt@rts - ECPv6.2.3.2//NONSGML v1.0//EN
CALSCALE:GREGORIAN
METHOD:PUBLISH
X-WR-CALNAME:ReSt@rts
X-ORIGINAL-URL:https://restartproject.net
X-WR-CALDESC:Events for ReSt@rts
REFRESH-INTERVAL;VALUE=DURATION:PT1H
X-Robots-Tag:noindex
X-PUBLISHED-TTL:PT1H
BEGIN:VTIMEZONE
TZID:UTC
BEGIN:STANDARD
TZOFFSETFROM:+0000
TZOFFSETTO:+0000
TZNAME:UTC
DTSTART:20230101T000000
END:STANDARD
END:VTIMEZONE
BEGIN:VEVENT
DTSTART;TZID=UTC:20231002T150000
DTEND;TZID=UTC:20231002T163000
DTSTAMP:20260422T223845
CREATED:20230922T083927Z
LAST-MODIFIED:20231106T101039Z
UID:5016-1696258800-1696264200@restartproject.net
SUMMARY:Microfinanza e innovazione - misure studiate per esigenze specifiche locali
DESCRIPTION:Follow via Facebook @ReStartsProject pageHTTPS://WWW.FACEBOOK.COM/RESTARTSPROJECT \n\n\n\n \n\n\n\nPost event materials: Video Streaming Recording
URL:https://restartproject.net/event/microfinanza-e-innovazione-misure-studiate-per-esigenze-specifiche-locali/
CATEGORIES:Meetings,Seminars
END:VEVENT
END:VCALENDAR